BEGIN:VCALENDAR
PRODID:-//nuDatenautomaten//framework iCal4j //DE
VERSION:2.0
CALSCALE:GREGORIAN
BEGIN:VTIMEZONE
TZID:Europe/Berlin
LAST-MODIFIED:20260306T231828Z
TZURL:https://www.tzurl.org/zoneinfo/Europe/Berlin
X-LIC-LOCATION:Europe/Berlin
X-PROLEPTIC-TZNAME:LMT
BEGIN:STANDARD
TZNAME:CET
TZOFFSETFROM:+005328
TZOFFSETTO:+0100
DTSTART:18930401T000000
END:STANDARD
BEGIN:DAYLIGHT
TZNAME:CEST
TZOFFSETFROM:+0100
TZOFFSETTO:+0200
DTSTART:19160430T230000
RDATE:19400401T020000
RDATE:19430329T020000
RDATE:19460414T020000
RDATE:19470406T030000
RDATE:19480418T020000
RDATE:19490410T020000
RDATE:19800406T020000
END:DAYLIGHT
BEGIN:STANDARD
TZNAME:CET
TZOFFSETFROM:+0200
TZOFFSETTO:+0100
DTSTART:19161001T010000
RDATE:19421102T030000
RDATE:19431004T030000
RDATE:19441002T030000
RDATE:19451118T030000
RDATE:19461007T030000
END:STANDARD
BEGIN:DAYLIGHT
TZNAME:CEST
TZOFFSETFROM:+0100
TZOFFSETTO:+0200
DTSTART:19170416T020000
RRULE:FREQ=YEARLY;UNTIL=19180415T010000Z;BYMONTH=4;BYDAY=3MO
END:DAYLIGHT
BEGIN:STANDARD
TZNAME:CET
TZOFFSETFROM:+0200
TZOFFSETTO:+0100
DTSTART:19170917T030000
RRULE:FREQ=YEARLY;UNTIL=19180916T010000Z;BYMONTH=9;BYDAY=3MO
END:STANDARD
BEGIN:DAYLIGHT
TZNAME:CEST
TZOFFSETFROM:+0100
TZOFFSETTO:+0200
DTSTART:19440403T020000
RRULE:FREQ=YEARLY;UNTIL=19450402T010000Z;BYMONTH=4;BYDAY=1MO
END:DAYLIGHT
BEGIN:DAYLIGHT
TZNAME:CEMT
TZOFFSETFROM:+0200
TZOFFSETTO:+0300
DTSTART:19450524T020000
RDATE:19470511T030000
END:DAYLIGHT
BEGIN:DAYLIGHT
TZNAME:CEST
TZOFFSETFROM:+0300
TZOFFSETTO:+0200
DTSTART:19450924T030000
RDATE:19470629T030000
END:DAYLIGHT
BEGIN:STANDARD
TZNAME:CET
TZOFFSETFROM:+0100
TZOFFSETTO:+0100
DTSTART:19460101T000000
RDATE:19800101T000000
END:STANDARD
BEGIN:STANDARD
TZNAME:CET
TZOFFSETFROM:+0200
TZOFFSETTO:+0100
DTSTART:19471005T030000
RRULE:FREQ=YEARLY;UNTIL=19491002T010000Z;BYMONTH=10;BYDAY=1SU
END:STANDARD
BEGIN:STANDARD
TZNAME:CET
TZOFFSETFROM:+0200
TZOFFSETTO:+0100
DTSTART:19800928T030000
RRULE:FREQ=YEARLY;UNTIL=19950924T010000Z;BYMONTH=9;BYDAY=-1SU
END:STANDARD
BEGIN:DAYLIGHT
TZNAME:CEST
TZOFFSETFROM:+0100
TZOFFSETTO:+0200
DTSTART:19810329T020000
RRULE:FREQ=YEARLY;BYMONTH=3;BYDAY=-1SU
END:DAYLIGHT
BEGIN:STANDARD
TZNAME:CET
TZOFFSETFROM:+0200
TZOFFSETTO:+0100
DTSTART:19961027T030000
RRULE:FREQ=YEARLY;BYMONTH=10;BYDAY=-1SU
END:STANDARD
END:VTIMEZONE
BEGIN:VEVENT
DTSTAMP:20260419T201341Z
DTSTART;TZID=Europe/Berlin:20251127T201500
DTEND;TZID=Europe/Berlin:20251127T231500
SUMMARY:Kreisliga B Gr. 2 TT Steinheim-Zang (SG) IV vs SV Neresheim II (34)
UID:bffb848e-bd31-48ae-9bff-cd2a99be3051
STATUS:CONFIRMED
LAST-MODIFIED:20251030T172837Z
DESCRIPTION:Erwachsene Kreisliga B Gr. 2\nBegegnungs-Nr: 34\nHeim: TT Steinheim-Zang (SG) IV\nGast: SV Neresheim II\n\nAdresse: Paul-Gerhardt-Weg 7\, 89555 Steinheim\n
LOCATION:Paul-Gerhardt-Weg 7\, 89555 Steinheim
CATEGORIES:Saison 2025/26
END:VEVENT
BEGIN:VEVENT
DTSTAMP:20260419T201341Z
DTSTART;TZID=Europe/Berlin:20251129T193000
DTEND;TZID=Europe/Berlin:20251129T223000
SUMMARY:Kreisliga B Gr. 2 TT Steinheim-Zang (SG) IV vs SV Bolheim (29)
UID:3d089363-be22-4b3d-bebb-6c3cac155410
STATUS:CONFIRMED
LAST-MODIFIED:20251127T095249Z
DESCRIPTION:Erwachsene Kreisliga B Gr. 2\nBegegnungs-Nr: 29\nHeim: TT Steinheim-Zang (SG) IV\nGast: SV Bolheim\n\nAdresse: Paul-Gerhardt-Weg 7\, 89555 Steinheim\n
LOCATION:Paul-Gerhardt-Weg 7\, 89555 Steinheim
CATEGORIES:Saison 2025/26
END:VEVENT
BEGIN:VEVENT
DTSTAMP:20260419T201341Z
DTSTART;TZID=Europe/Berlin:20251018T150000
DTEND;TZID=Europe/Berlin:20251018T180000
SUMMARY:Kreisliga B Gr. 2 TT Steinheim-Zang (SG) IV vs TV Unterkochen III (7)
UID:baba7541-6c7d-4cac-b348-9f8cd244a39b
STATUS:CONFIRMED
DESCRIPTION:Erwachsene Kreisliga B Gr. 2\nBegegnungs-Nr: 7\nHeim: TT Steinheim-Zang (SG) IV\nGast: TV Unterkochen III\n\nAdresse: Weiherstr. 16\, 89551 Königsbronn-Zang\n
LOCATION:Weiherstr. 16\, 89551 Königsbronn-Zang
CATEGORIES:Saison 2025/26
END:VEVENT
BEGIN:VEVENT
DTSTAMP:20260419T201341Z
DTSTART;TZID=Europe/Berlin:20251004T183000
DTEND;TZID=Europe/Berlin:20251004T213000
SUMMARY:Kreisliga B Gr. 2 TT Steinheim-Zang (SG) IV vs TT Aalen-Wasseralfingen (SG) IV (6)
UID:6b08a309-1390-49da-a4ec-b8e6bd73223f
STATUS:CONFIRMED
DESCRIPTION:Erwachsene Kreisliga B Gr. 2\nBegegnungs-Nr: 6\nHeim: TT Steinheim-Zang (SG) IV\nGast: TT Aalen-Wasseralfingen (SG) IV\n\nAdresse: Paul-Gerhardt-Weg 7\, 89555 Steinheim\n
LOCATION:Paul-Gerhardt-Weg 7\, 89555 Steinheim
CATEGORIES:Saison 2025/26
END:VEVENT
BEGIN:VEVENT
DTSTAMP:20260419T201341Z
DTSTART;TZID=Europe/Berlin:20260130T200000
DTEND;TZID=Europe/Berlin:20260130T230000
SUMMARY:Kreisliga B Gr. 2 TT Steinheim-Zang (SG) IV vs Post-SV Aalen II (38)
UID:b7439d65-ce68-46e2-aadf-ca32e89eb33a
STATUS:CONFIRMED
LAST-MODIFIED:20260210T143231Z
DESCRIPTION:Erwachsene Kreisliga B Gr. 2\nBegegnungs-Nr: 38\nHeim: TT Steinheim-Zang (SG) IV\nGast: Post-SV Aalen II\n\nAdresse: Weiherstr. 16\, 89551 Königsbronn-Zang\n
LOCATION:Weiherstr. 16\, 89551 Königsbronn-Zang
CATEGORIES:Saison 2025/26
END:VEVENT
BEGIN:VEVENT
DTSTAMP:20260419T201341Z
DTSTART;TZID=Europe/Berlin:20260131T183000
DTEND;TZID=Europe/Berlin:20260131T213000
SUMMARY:Kreisliga B Gr. 2 TT Steinheim-Zang (SG) IV vs SV Waldhausen III (42)
UID:d50b8756-5a5e-4787-b3ae-0f1a9afb940b
STATUS:CONFIRMED
DESCRIPTION:Erwachsene Kreisliga B Gr. 2\nBegegnungs-Nr: 42\nHeim: TT Steinheim-Zang (SG) IV\nGast: SV Waldhausen III\n\nAdresse: Weiherstr. 16\, 89551 Königsbronn-Zang\n
LOCATION:Weiherstr. 16\, 89551 Königsbronn-Zang
CATEGORIES:Saison 2025/26
END:VEVENT
BEGIN:VEVENT
DTSTAMP:20260419T201341Z
DTSTART;TZID=Europe/Berlin:20260425T153000
DTEND;TZID=Europe/Berlin:20260425T183000
SUMMARY:Kreisliga B Gr. 2 TT Steinheim-Zang (SG) IV vs TG Hofen (72)
UID:959efc2c-5187-44da-8fab-02ee3aff035c
STATUS:CONFIRMED
LAST-MODIFIED:20260309T142819Z
DESCRIPTION:Erwachsene Kreisliga B Gr. 2\nBegegnungs-Nr: 72\nHeim: TT Steinheim-Zang (SG) IV\nGast: TG Hofen\n\nAdresse: Weiherstr. 16\, 89551 Königsbronn-Zang\n
LOCATION:Weiherstr. 16\, 89551 Königsbronn-Zang
CATEGORIES:Saison 2025/26
END:VEVENT
BEGIN:VEVENT
DTSTAMP:20260419T201341Z
DTSTART;TZID=Europe/Berlin:20260328T183000
DTEND;TZID=Europe/Berlin:20260328T213000
SUMMARY:Kreisliga B Gr. 2 TT Steinheim-Zang (SG) IV vs TTC Königsbronn (63)
UID:9c713864-b5a0-450b-b541-d7bd2b858daa
STATUS:CONFIRMED
DESCRIPTION:Erwachsene Kreisliga B Gr. 2\nBegegnungs-Nr: 63\nHeim: TT Steinheim-Zang (SG) IV\nGast: TTC Königsbronn\n\nAdresse: Paul-Gerhardt-Weg 7\, 89555 Steinheim\n
LOCATION:Paul-Gerhardt-Weg 7\, 89555 Steinheim
CATEGORIES:Saison 2025/26
END:VEVENT
BEGIN:VEVENT
DTSTAMP:20260419T201341Z
DTSTART;TZID=Europe/Berlin:20251206T200000
DTEND;TZID=Europe/Berlin:20251206T230000
SUMMARY:Kreisliga B Gr. 2 SV Waldhausen III vs TT Steinheim-Zang (SG) IV (32)
UID:7fcf39d1-ba91-4452-87fd-0139e93d77a1
STATUS:CONFIRMED
DESCRIPTION:Erwachsene Kreisliga B Gr. 2\nBegegnungs-Nr: 32\nHeim: SV Waldhausen III\nGast: TT Steinheim-Zang (SG) IV\n\nAdresse: Hochmeisterstraße 16\, 73432 Aalen-Waldhausen\n
LOCATION:Hochmeisterstraße 16\, 73432 Aalen-Waldhausen
CATEGORIES:Saison 2025/26
END:VEVENT
BEGIN:VEVENT
DTSTAMP:20260419T201341Z
DTSTART;TZID=Europe/Berlin:20251115T170000
DTEND;TZID=Europe/Berlin:20251115T200000
SUMMARY:Kreisliga B Gr. 2 TG Hofen vs TT Steinheim-Zang (SG) IV (20)
UID:c88bee74-9fb1-471a-815b-dc5847e6dae0
STATUS:CONFIRMED
DESCRIPTION:Erwachsene Kreisliga B Gr. 2\nBegegnungs-Nr: 20\nHeim: TG Hofen\nGast: TT Steinheim-Zang (SG) IV\n\nAdresse: Opalstraße 29\, 73433 Hofen\n
LOCATION:Opalstraße 29\, 73433 Hofen
CATEGORIES:Saison 2025/26
END:VEVENT
BEGIN:VEVENT
DTSTAMP:20260419T201341Z
DTSTART;TZID=Europe/Berlin:20251114T200000
DTEND;TZID=Europe/Berlin:20251114T230000
SUMMARY:Kreisliga B Gr. 2 TTC Königsbronn vs TT Steinheim-Zang (SG) IV (15)
UID:af94c841-2838-46da-aec1-d9d6592faa82
STATUS:CONFIRMED
LAST-MODIFIED:20251028T101223Z
DESCRIPTION:Erwachsene Kreisliga B Gr. 2\nBegegnungs-Nr: 15\nHeim: TTC Königsbronn\nGast: TT Steinheim-Zang (SG) IV\n\nAdresse: Stürzelweg 10\, 89551 Königsbronn\n
LOCATION:Stürzelweg 10\, 89551 Königsbronn
CATEGORIES:Saison 2025/26
END:VEVENT
BEGIN:VEVENT
DTSTAMP:20260419T201341Z
DTSTART;TZID=Europe/Berlin:20251025T183000
DTEND;TZID=Europe/Berlin:20251025T213000
SUMMARY:Kreisliga B Gr. 2 Post-SV Aalen II vs TT Steinheim-Zang (SG) IV (12)
UID:8f3d4bb5-1b39-480c-96a3-c608d7fe6e10
STATUS:CONFIRMED
DESCRIPTION:Erwachsene Kreisliga B Gr. 2\nBegegnungs-Nr: 12\nHeim: Post-SV Aalen II\nGast: TT Steinheim-Zang (SG) IV\n\nAdresse: Max-Eyth-Straße 24\, 73431 Aalen\n
LOCATION:Max-Eyth-Straße 24\, 73431 Aalen
CATEGORIES:Saison 2025/26
END:VEVENT
BEGIN:VEVENT
DTSTAMP:20260419T201341Z
DTSTART;TZID=Europe/Berlin:20260124T180000
DTEND;TZID=Europe/Berlin:20260124T210000
SUMMARY:Kreisliga B Gr. 2 TT Aalen-Wasseralfingen (SG) IV vs TT Steinheim-Zang (SG) IV (39)
UID:e6afe8b6-5cdb-47e8-8926-90a7c296429f
STATUS:CONFIRMED
DESCRIPTION:Erwachsene Kreisliga B Gr. 2\nBegegnungs-Nr: 39\nHeim: TT Aalen-Wasseralfingen (SG) IV\nGast: TT Steinheim-Zang (SG) IV\n\nAdresse: Spieselstr. 23\, 73434 Wasseralfingen\n
LOCATION:Spieselstr. 23\, 73434 Wasseralfingen
CATEGORIES:Saison 2025/26
END:VEVENT
BEGIN:VEVENT
DTSTAMP:20260419T201341Z
DTSTART;TZID=Europe/Berlin:20260214T190000
DTEND;TZID=Europe/Berlin:20260214T220000
SUMMARY:Kreisliga B Gr. 2 SV Bolheim vs TT Steinheim-Zang (SG) IV (45)
UID:34a7c3dd-0f02-4efd-a266-1db2c35f4684
STATUS:CONFIRMED
DESCRIPTION:Erwachsene Kreisliga B Gr. 2\nBegegnungs-Nr: 45\nHeim: SV Bolheim\nGast: TT Steinheim-Zang (SG) IV\n\nAdresse: Im Ried 1\, 89542 Bolheim\n
LOCATION:Im Ried 1\, 89542 Bolheim
CATEGORIES:Saison 2025/26
END:VEVENT
BEGIN:VEVENT
DTSTAMP:20260419T201341Z
DTSTART;TZID=Europe/Berlin:20260228T180000
DTEND;TZID=Europe/Berlin:20260228T210000
SUMMARY:Kreisliga B Gr. 2 SV Neresheim II vs TT Steinheim-Zang (SG) IV (50)
UID:8e76a239-9a38-4738-8492-5af651a294bc
STATUS:CONFIRMED
DESCRIPTION:Erwachsene Kreisliga B Gr. 2\nBegegnungs-Nr: 50\nHeim: SV Neresheim II\nGast: TT Steinheim-Zang (SG) IV\n\nAdresse: Graf-Stauffenbergstr. 6\, 73450 Neresheim\n
LOCATION:Graf-Stauffenbergstr. 6\, 73450 Neresheim
CATEGORIES:Saison 2025/26
END:VEVENT
BEGIN:VEVENT
DTSTAMP:20260419T201341Z
DTSTART;TZID=Europe/Berlin:20260321T180000
DTEND;TZID=Europe/Berlin:20260321T210000
SUMMARY:Kreisliga B Gr. 2 TV Unterkochen III vs TT Steinheim-Zang (SG) IV (61)
UID:9d626d04-b43a-4c5b-b00d-2a73ed65a4a9
STATUS:CONFIRMED
DESCRIPTION:Erwachsene Kreisliga B Gr. 2\nBegegnungs-Nr: 61\nHeim: TV Unterkochen III\nGast: TT Steinheim-Zang (SG) IV\n\nAdresse: Otto-Rieger-Platz 1-2\, 73432 Unterkochen\n
LOCATION:Otto-Rieger-Platz 1-2\, 73432 Unterkochen
CATEGORIES:Saison 2025/26
END:VEVENT
END:VCALENDAR
